BEGIN:VCALENDAR
VERSION:2.0
PRODID:-//Tukios.com/
BEGIN:VEVENT
UID:16d80321-054a-40da-826e-4aefc771973b@www.legacychapelfunerals.com
DTSTAMP:20260422T001143Z
DTSTART:20260504T160000Z
DTEND:20260504T170000Z
SUMMARY:Visitation
DESCRIPTION:
URL:https://www.legacychapelfunerals.com/obituaries/garland-keaton-sr
LOCATION: 16 Hughes Rd  Madison AL 35758
GEO:34.68544;-86.736298
END:VEVENT
END:VCALENDAR