BEGIN:VCALENDAR
VERSION:2.0
PRODID:-//Tukios.com/
BEGIN:VEVENT
UID:a7b489c7-3008-469c-9842-f365c7020a47@www.legacychapelfunerals.com
DTSTAMP:20260422T001423Z
DTSTART:20260504T170000Z
DTEND:20260504T180000Z
SUMMARY:Funeral Service
DESCRIPTION:
URL:https://www.legacychapelfunerals.com/obituaries/garland-keaton-sr
LOCATION: 16 Hughes Rd  Madison AL 35758
GEO:34.68544;-86.736298
END:VEVENT
END:VCALENDAR