BEGIN:VCALENDAR
VERSION:2.0
PRODID:-//Tukios.com/
BEGIN:VEVENT
UID:02e9ba31-dc23-483c-a1db-5ed108ed839b@www.legacychapelfunerals.com
DTSTAMP:20260421T215946Z
DTSTART:20260424T160000Z
DTEND:20260424T170000Z
SUMMARY:Visitation
DESCRIPTION:
URL:https://www.legacychapelfunerals.com/obituaries/gregory-simpson
LOCATION:St. John the Baptist Catholic Church 1055 Hughes Rd  Madison AL 
	35758
GEO:34.7332583;-86.7396682
END:VEVENT
END:VCALENDAR