BEGIN:VCALENDAR
VERSION:2.0
PRODID:-//Tukios.com/
BEGIN:VEVENT
UID:faa73290-05cb-49a4-a95a-af4fe1534ab0@www.legacychapelfunerals.com
DTSTAMP:20260421T220348Z
DTSTART:20260424T170000Z
DTEND:20260424T180000Z
SUMMARY:Mass
DESCRIPTION:
URL:https://www.legacychapelfunerals.com/obituaries/gregory-simpson
LOCATION:St. John the Baptist Catholic Parish 1055 Hughes Rd  Madison AL 
	35758
GEO:34.732578;-86.7390436
END:VEVENT
END:VCALENDAR