BEGIN:VCALENDAR
VERSION:2.0
PRODID:-//Tukios.com/
BEGIN:VEVENT
UID:76109efa-e0b3-4b2a-98b0-f640314dea2a@www.legacychapelfunerals.com
DTSTAMP:20260423T192531Z
DTSTART:20260425T160000Z
DTEND:20260425T170000Z
SUMMARY:Visitation
DESCRIPTION:
URL:https://www.legacychapelfunerals.com/obituaries/lukas-williams
LOCATION:Legacy Chapel 16 Hughes Road  Madison AL 35758
GEO:34.68544;-86.736298
END:VEVENT
END:VCALENDAR