BEGIN:VCALENDAR
VERSION:2.0
PRODID:-//Tukios.com/
BEGIN:VEVENT
UID:0bf52944-aece-4f10-a0c9-3cee63b756df@www.legacychapelfunerals.com
DTSTAMP:20260423T192237Z
DTSTART:20260425T170000Z
DTEND:20260425T180000Z
SUMMARY:Celebration of Life
DESCRIPTION:
URL:https://www.legacychapelfunerals.com/obituaries/lukas-williams
LOCATION: 16 Hughes Rd  Madison AL 35758
GEO:34.68544;-86.736298
END:VEVENT
END:VCALENDAR