BEGIN:VCALENDAR
VERSION:2.0
PRODID:-//Tukios.com/
BEGIN:VEVENT
UID:eef4095c-75a7-4435-9276-893d3ce79d13@www.legacychapelfunerals.com
DTSTAMP:20260421T211010Z
DTSTART:20260516T180000Z
DTEND:20260516T210000Z
SUMMARY:Celebration of Life
DESCRIPTION:
URL:https://www.legacychapelfunerals.com/obituaries/tamara-johnson
LOCATION:Precious Blood Catholic Church 3306 Fenmore Street  Owensboro KY 
	42301
GEO:37.7676725;-87.1517955
END:VEVENT
END:VCALENDAR